BEGIN:VCALENDAR
VERSION:2.0
PRODID:-//Nadisco Foundaiton - ECPv6.15.20//NONSGML v1.0//EN
CALSCALE:GREGORIAN
METHOD:PUBLISH
X-WR-CALNAME:Nadisco Foundaiton
X-ORIGINAL-URL:https://nadiscofoundation.org
X-WR-CALDESC:Events for Nadisco Foundaiton
REFRESH-INTERVAL;VALUE=DURATION:PT1H
X-Robots-Tag:noindex
X-PUBLISHED-TTL:PT1H
BEGIN:VTIMEZONE
TZID:UTC
BEGIN:STANDARD
TZOFFSETFROM:+0000
TZOFFSETTO:+0000
TZNAME:UTC
DTSTART:20170101T000000
END:STANDARD
END:VTIMEZONE
BEGIN:VEVENT
DTSTART;TZID=UTC:20200718T080000
DTEND;TZID=UTC:20200718T170000
DTSTAMP:20260424T083602
CREATED:20170425T101855Z
LAST-MODIFIED:20170425T101855Z
UID:782-1595059200-1595091600@nadiscofoundation.org
SUMMARY:History Of Tibet
DESCRIPTION:[vc_row][vc_column width=”1/2″][vc_column_text]Aivamus volutpat eros pulvinar velit laoreet\, sit amet egestas erat dignissim. Sed quis rutrum tellus\, sit amet viverra felis. Cras sagittis sem sit amet urna feugiat rutrum nam nulla.[/vc_column_text][/vc_column][vc_column width=”1/2″][vc_column_text]Vivamus volutpat eros pulvinar velit laoreet\, sit amet egestas erat dignissim. Sed quis rutrum tellus\, sit amet viverra felis. Cras sagittis sem sit amet urna feugiat rutrum. Nam nulla ipsum\, venenatis malesuada felis quis\, ultricies.[/vc_column_text][/vc_column][/vc_row][vc_row css=”.vc_custom_1492008828909{margin-top: 40px !important;}”][vc_column] OUR CAUSES [vc_column_text]Vivamus volutpat eros pulvinar velit laoreet\, sit amet egestas erat dignissim. Sed quis rutrum tellus\, sit amet viverra felis. Cras sagittis sem sit amet urna feugiat rutrum. Nam nulla ipsum\, venenatis malesuada felis quis\, ultricies convallis neque. Pellentesque tristique fringilla tempus. Vivamus bibendum nibh in dolor pharetra\, a euismod nulla dignissim. Aenean viverra tincidunt nibh\, in imperdiet nunc. Suspendisse eu ante pretium\, consectetur leo at\, congue quam. Nullam hendrerit porta ante vitae tristique. Vestibulum ante ipsum primis in faucibus orci luctus et ultrices posuere cubilia Curae; Vestibulum ligula libero\, feugiat faucibus mattis eget\, pulvinar et ligula.[/vc_column_text][/vc_column][/vc_row]
URL:https://nadiscofoundation.org/event/history-of-tibet/
LOCATION:Envato HQ\, 121 King Street\, Melbourne\, Victoria\, 3000\, Australia
CATEGORIES:Category Event
ATTACH;FMTTYPE=image/jpeg:https://nadiscofoundation.org/wp-content/uploads/2017/04/focus-17.jpg
END:VEVENT
BEGIN:VEVENT
DTSTART;TZID=UTC:20200618T080000
DTEND;TZID=UTC:20200618T170000
DTSTAMP:20260424T083603
CREATED:20170425T101846Z
LAST-MODIFIED:20170425T101846Z
UID:780-1592467200-1592499600@nadiscofoundation.org
SUMMARY:Clothes Coming
DESCRIPTION:[vc_row][vc_column width=”1/2″][vc_column_text]Aivamus volutpat eros pulvinar velit laoreet\, sit amet egestas erat dignissim. Sed quis rutrum tellus\, sit amet viverra felis. Cras sagittis sem sit amet urna feugiat rutrum nam nulla.[/vc_column_text][/vc_column][vc_column width=”1/2″][vc_column_text]Vivamus volutpat eros pulvinar velit laoreet\, sit amet egestas erat dignissim. Sed quis rutrum tellus\, sit amet viverra felis. Cras sagittis sem sit amet urna feugiat rutrum. Nam nulla ipsum\, venenatis malesuada felis quis\, ultricies.[/vc_column_text][/vc_column][/vc_row][vc_row css=”.vc_custom_1492008828909{margin-top: 40px !important;}”][vc_column] OUR CAUSES [vc_column_text]Vivamus volutpat eros pulvinar velit laoreet\, sit amet egestas erat dignissim. Sed quis rutrum tellus\, sit amet viverra felis. Cras sagittis sem sit amet urna feugiat rutrum. Nam nulla ipsum\, venenatis malesuada felis quis\, ultricies convallis neque. Pellentesque tristique fringilla tempus. Vivamus bibendum nibh in dolor pharetra\, a euismod nulla dignissim. Aenean viverra tincidunt nibh\, in imperdiet nunc. Suspendisse eu ante pretium\, consectetur leo at\, congue quam. Nullam hendrerit porta ante vitae tristique. Vestibulum ante ipsum primis in faucibus orci luctus et ultrices posuere cubilia Curae; Vestibulum ligula libero\, feugiat faucibus mattis eget\, pulvinar et ligula.[/vc_column_text][/vc_column][/vc_row]
URL:https://nadiscofoundation.org/event/clothes-coming/
LOCATION:Envato HQ\, 121 King Street\, Melbourne\, Victoria\, 3000\, Australia
CATEGORIES:Category Event
ATTACH;FMTTYPE=image/jpeg:https://nadiscofoundation.org/wp-content/uploads/2017/04/focus-3-1.jpg
END:VEVENT
BEGIN:VEVENT
DTSTART;TZID=UTC:20200606T140000
DTEND;TZID=UTC:20200606T160000
DTSTAMP:20260424T083603
CREATED:20170425T101841Z
LAST-MODIFIED:20170425T101841Z
UID:779-1591452000-1591459200@nadiscofoundation.org
SUMMARY:Drought Information
DESCRIPTION:[vc_row][vc_column width=”1/2″][vc_column_text]Aivamus volutpat eros pulvinar velit laoreet\, sit amet egestas erat dignissim. Sed quis rutrum tellus\, sit amet viverra felis. Cras sagittis sem sit amet urna feugiat rutrum nam nulla.[/vc_column_text][/vc_column][vc_column width=”1/2″][vc_column_text]Vivamus volutpat eros pulvinar velit laoreet\, sit amet egestas erat dignissim. Sed quis rutrum tellus\, sit amet viverra felis. Cras sagittis sem sit amet urna feugiat rutrum. Nam nulla ipsum\, venenatis malesuada felis quis\, ultricies.[/vc_column_text][/vc_column][/vc_row][vc_row css=”.vc_custom_1492008828909{margin-top: 40px !important;}”][vc_column] OUR CAUSES [vc_column_text]Vivamus volutpat eros pulvinar velit laoreet\, sit amet egestas erat dignissim. Sed quis rutrum tellus\, sit amet viverra felis. Cras sagittis sem sit amet urna feugiat rutrum. Nam nulla ipsum\, venenatis malesuada felis quis\, ultricies convallis neque. Pellentesque tristique fringilla tempus. Vivamus bibendum nibh in dolor pharetra\, a euismod nulla dignissim. Aenean viverra tincidunt nibh\, in imperdiet nunc. Suspendisse eu ante pretium\, consectetur leo at\, congue quam. Nullam hendrerit porta ante vitae tristique. Vestibulum ante ipsum primis in faucibus orci luctus et ultrices posuere cubilia Curae; Vestibulum ligula libero\, feugiat faucibus mattis eget\, pulvinar et ligula.[/vc_column_text][/vc_column][/vc_row]
URL:https://nadiscofoundation.org/event/drought-information/
LOCATION:Envato HQ\, 121 King Street\, Melbourne\, Victoria\, 3000\, Australia
CATEGORIES:Category Event
ATTACH;FMTTYPE=image/jpeg:https://nadiscofoundation.org/wp-content/uploads/2017/04/focus-5.jpg
END:VEVENT
BEGIN:VEVENT
DTSTART;TZID=UTC:20200606T110000
DTEND;TZID=UTC:20200606T130000
DTSTAMP:20260424T083604
CREATED:20170424T094548Z
LAST-MODIFIED:20170424T094548Z
UID:723-1591441200-1591448400@nadiscofoundation.org
SUMMARY:Teachers Presentation
DESCRIPTION:[vc_row][vc_column width=”1/2″][vc_column_text]Aivamus volutpat eros pulvinar velit laoreet\, sit amet egestas erat dignissim. Sed quis rutrum tellus\, sit amet viverra felis. Cras sagittis sem sit amet urna feugiat rutrum nam nulla.[/vc_column_text][/vc_column][vc_column width=”1/2″][vc_column_text]Vivamus volutpat eros pulvinar velit laoreet\, sit amet egestas erat dignissim. Sed quis rutrum tellus\, sit amet viverra felis. Cras sagittis sem sit amet urna feugiat rutrum. Nam nulla ipsum\, venenatis malesuada felis quis\, ultricies.[/vc_column_text][/vc_column][/vc_row][vc_row css=”.vc_custom_1492008828909{margin-top: 40px !important;}”][vc_column] OUR CAUSES [vc_column_text]Vivamus volutpat eros pulvinar velit laoreet\, sit amet egestas erat dignissim. Sed quis rutrum tellus\, sit amet viverra felis. Cras sagittis sem sit amet urna feugiat rutrum. Nam nulla ipsum\, venenatis malesuada felis quis\, ultricies convallis neque. Pellentesque tristique fringilla tempus. Vivamus bibendum nibh in dolor pharetra\, a euismod nulla dignissim. Aenean viverra tincidunt nibh\, in imperdiet nunc. Suspendisse eu ante pretium\, consectetur leo at\, congue quam. Nullam hendrerit porta ante vitae tristique. Vestibulum ante ipsum primis in faucibus orci luctus et ultrices posuere cubilia Curae; Vestibulum ligula libero\, feugiat faucibus mattis eget\, pulvinar et ligula.[/vc_column_text][/vc_column][/vc_row]
URL:https://nadiscofoundation.org/event/teachers-presentation/
LOCATION:Envato HQ\, 121 King Street\, Melbourne\, Victoria\, 3000\, Australia
CATEGORIES:Category Event
ATTACH;FMTTYPE=image/jpeg:https://nadiscofoundation.org/wp-content/uploads/2017/04/focus-14.jpg
END:VEVENT
BEGIN:VEVENT
DTSTART;TZID=UTC:20200606T080000
DTEND;TZID=UTC:20200606T100000
DTSTAMP:20260424T083604
CREATED:20170421T152433Z
LAST-MODIFIED:20170421T152433Z
UID:709-1591430400-1591437600@nadiscofoundation.org
SUMMARY:Water Properties
DESCRIPTION:[vc_row][vc_column width=”1/2″][vc_column_text]Aivamus volutpat eros pulvinar velit laoreet\, sit amet egestas erat dignissim. Sed quis rutrum tellus\, sit amet viverra felis. Cras sagittis sem sit amet urna feugiat rutrum nam nulla.[/vc_column_text][/vc_column][vc_column width=”1/2″][vc_column_text]Vivamus volutpat eros pulvinar velit laoreet\, sit amet egestas erat dignissim. Sed quis rutrum tellus\, sit amet viverra felis. Cras sagittis sem sit amet urna feugiat rutrum. Nam nulla ipsum\, venenatis malesuada felis quis\, ultricies.[/vc_column_text][/vc_column][/vc_row][vc_row css=”.vc_custom_1492008828909{margin-top: 40px !important;}”][vc_column] OUR CAUSES [vc_column_text]Vivamus volutpat eros pulvinar velit laoreet\, sit amet egestas erat dignissim. Sed quis rutrum tellus\, sit amet viverra felis. Cras sagittis sem sit amet urna feugiat rutrum. Nam nulla ipsum\, venenatis malesuada felis quis\, ultricies convallis neque. Pellentesque tristique fringilla tempus. Vivamus bibendum nibh in dolor pharetra\, a euismod nulla dignissim. Aenean viverra tincidunt nibh\, in imperdiet nunc. Suspendisse eu ante pretium\, consectetur leo at\, congue quam. Nullam hendrerit porta ante vitae tristique. Vestibulum ante ipsum primis in faucibus orci luctus et ultrices posuere cubilia Curae; Vestibulum ligula libero\, feugiat faucibus mattis eget\, pulvinar et ligula.[/vc_column_text][/vc_column][/vc_row]
URL:https://nadiscofoundation.org/event/water-properties/
LOCATION:Envato HQ\, 121 King Street\, Melbourne\, Victoria\, 3000\, Australia
CATEGORIES:Category Event
ATTACH;FMTTYPE=image/jpeg:https://nadiscofoundation.org/wp-content/uploads/2017/04/focus-13.jpg
END:VEVENT
BEGIN:VEVENT
DTSTART;TZID=UTC:20200514T080000
DTEND;TZID=UTC:20200514T170000
DTSTAMP:20260424T083604
CREATED:20170425T101851Z
LAST-MODIFIED:20170425T101851Z
UID:781-1589443200-1589475600@nadiscofoundation.org
SUMMARY:Grammar Books
DESCRIPTION:[vc_row][vc_column width=”1/2″][vc_column_text]Aivamus volutpat eros pulvinar velit laoreet\, sit amet egestas erat dignissim. Sed quis rutrum tellus\, sit amet viverra felis. Cras sagittis sem sit amet urna feugiat rutrum nam nulla.[/vc_column_text][/vc_column][vc_column width=”1/2″][vc_column_text]Vivamus volutpat eros pulvinar velit laoreet\, sit amet egestas erat dignissim. Sed quis rutrum tellus\, sit amet viverra felis. Cras sagittis sem sit amet urna feugiat rutrum. Nam nulla ipsum\, venenatis malesuada felis quis\, ultricies.[/vc_column_text][/vc_column][/vc_row][vc_row css=”.vc_custom_1492008828909{margin-top: 40px !important;}”][vc_column] OUR CAUSES [vc_column_text]Vivamus volutpat eros pulvinar velit laoreet\, sit amet egestas erat dignissim. Sed quis rutrum tellus\, sit amet viverra felis. Cras sagittis sem sit amet urna feugiat rutrum. Nam nulla ipsum\, venenatis malesuada felis quis\, ultricies convallis neque. Pellentesque tristique fringilla tempus. Vivamus bibendum nibh in dolor pharetra\, a euismod nulla dignissim. Aenean viverra tincidunt nibh\, in imperdiet nunc. Suspendisse eu ante pretium\, consectetur leo at\, congue quam. Nullam hendrerit porta ante vitae tristique. Vestibulum ante ipsum primis in faucibus orci luctus et ultrices posuere cubilia Curae; Vestibulum ligula libero\, feugiat faucibus mattis eget\, pulvinar et ligula.[/vc_column_text][/vc_column][/vc_row]
URL:https://nadiscofoundation.org/event/grammar-books/
LOCATION:Envato HQ\, 121 King Street\, Melbourne\, Victoria\, 3000\, Australia
CATEGORIES:Category Event
ATTACH;FMTTYPE=image/jpeg:https://nadiscofoundation.org/wp-content/uploads/2017/04/focus-15.jpg
END:VEVENT
BEGIN:VEVENT
DTSTART;TZID=UTC:20180125T080000
DTEND;TZID=UTC:20200331T170000
DTSTAMP:20260424T083604
CREATED:20171031T092445Z
LAST-MODIFIED:20171031T092445Z
UID:944-1516867200-1585674000@nadiscofoundation.org
SUMMARY:Sonam Tamang is a Nepaly
DESCRIPTION:Child sponsorship is a unique relationship\, that brings real hope and a life-affirming experience. Individually\, they raised their £400 via the event fundraising pages which George praises as an excellent aspect of the Yomp. The team then went on to approach clients\, family and friends. As they were a corporate team they were also lucky enough to have the firm’s social media as a platform to promote their efforts. Through sharing their training\, team news\, fun facts and fundraising page\, they were able to gain a strong online interest on Facebook and Twitter\, which helped raise their total. \nIt’s an event that will stay with us all for a very long time. The whole thing was incredibly special from the scenery and location to the wonderful event staff and brilliant organisation. At the heart of it though is the challenge and each and every one of us had to dig deep to complete it\, but that is what makes it so rewarding! \nThis report sets out a high-level view of progress since the strategy’s launch. Alongside ongoing dialogue with the UK and international research community\, we’ve sought input and challenge on our progress from supporters\, patients and those affected by cancer.
URL:https://nadiscofoundation.org/event/sonam-tamang-is-a-nepaly/
LOCATION:New York\, 132-68 34th Ave Flushing\, NY 11354\, New York\, NY\, 10001\, United States
CATEGORIES:Charity,Chield care,Non Profit
ORGANIZER;CN="ChCharity":MAILTO:admin@gmail.com
END:VEVENT
BEGIN:VEVENT
DTSTART;TZID=UTC:20180119T080000
DTEND;TZID=UTC:20210331T170000
DTSTAMP:20260424T083605
CREATED:20171031T092322Z
LAST-MODIFIED:20171031T092322Z
UID:940-1516348800-1617210000@nadiscofoundation.org
SUMMARY:Weʼre raising $5\,000\,000 to  help the people
DESCRIPTION:Child sponsorship is a unique relationship\, that brings real hope and a life-affirming experience. Individually\, they raised their £400 via the event fundraising pages which George praises as an excellent aspect of the Yomp. The team then went on to approach clients\, family and friends. As they were a corporate team they were also lucky enough to have the firm’s social media as a platform to promote their efforts. Through sharing their training\, team news\, fun facts and fundraising page\, they were able to gain a strong online interest on Facebook and Twitter\, which helped raise their total. \nIt’s an event that will stay with us all for a very long time. The whole thing was incredibly special from the scenery and location to the wonderful event staff and brilliant organisation. At the heart of it though is the challenge and each and every one of us had to dig deep to complete it\, but that is what makes it so rewarding! \nThis report sets out a high-level view of progress since the strategy’s launch. Alongside ongoing dialogue with the UK and international research community\, we’ve sought input and challenge on our progress from supporters\, patients and those affected by cancer.
URL:https://nadiscofoundation.org/event/we%ca%bcre-raising-5000000-to-help-the-people/
LOCATION:Los Angeles\, 15150 Dickens St Sherman Oaks\, CA 91403\, Los Angeles\, CA\, 10001\, United States
CATEGORIES:Charity,Children fund,Donation
ORGANIZER;CN="ChCharity":MAILTO:admin@gmail.com
END:VEVENT
BEGIN:VEVENT
DTSTART;TZID=UTC:20180105T080000
DTEND;TZID=UTC:20210227T170000
DTSTAMP:20260424T083605
CREATED:20171031T092042Z
LAST-MODIFIED:20171031T092042Z
UID:936-1515139200-1614445200@nadiscofoundation.org
SUMMARY:Poor children education Event
DESCRIPTION:Child sponsorship is a unique relationship\, that brings real hope and a life-affirming experience. Individually\, they raised their £400 via the event fundraising pages which George praises as an excellent aspect of the Yomp. The team then went on to approach clients\, family and friends. As they were a corporate team they were also lucky enough to have the firm’s social media as a platform to promote their efforts. Through sharing their training\, team news\, fun facts and fundraising page\, they were able to gain a strong online interest on Facebook and Twitter\, which helped raise their total. \nIt’s an event that will stay with us all for a very long time. The whole thing was incredibly special from the scenery and location to the wonderful event staff and brilliant organisation. At the heart of it though is the challenge and each and every one of us had to dig deep to complete it\, but that is what makes it so rewarding! \nThis report sets out a high-level view of progress since the strategy’s launch. Alongside ongoing dialogue with the UK and international research community\, we’ve sought input and challenge on our progress from supporters\, patients and those affected by cancer.
URL:https://nadiscofoundation.org/event/poor-children-education-event/
LOCATION:New York\, 132-68 34th Ave Flushing\, NY 11354\, New York\, NY\, 10001\, United States
CATEGORIES:Chield care,Children fund,Donation
ORGANIZER;CN="ChCharity":MAILTO:admin@gmail.com
END:VEVENT
BEGIN:VEVENT
DTSTART;TZID=UTC:20180101T080000
DTEND;TZID=UTC:20220131T170000
DTSTAMP:20260424T083605
CREATED:20171031T091752Z
LAST-MODIFIED:20171031T091752Z
UID:929-1514793600-1643648400@nadiscofoundation.org
SUMMARY:Victory Soldiers’ Charity
DESCRIPTION:Child sponsorship is a unique relationship\, that brings real hope and a life-affirming experience. Individually\, they raised their £400 via the event fundraising pages which George praises as an excellent aspect of the Yomp. The team then went on to approach clients\, family and friends. As they were a corporate team they were also lucky enough to have the firm’s social media as a platform to promote their efforts. Through sharing their training\, team news\, fun facts and fundraising page\, they were able to gain a strong online interest on Facebook and Twitter\, which helped raise their total. \nIt’s an event that will stay with us all for a very long time. The whole thing was incredibly special from the scenery and location to the wonderful event staff and brilliant organisation. At the heart of it though is the challenge and each and every one of us had to dig deep to complete it\, but that is what makes it so rewarding! \nThis report sets out a high-level view of progress since the strategy’s launch. Alongside ongoing dialogue with the UK and international research community\, we’ve sought input and challenge on our progress from supporters\, patients and those affected by cancer.
URL:https://nadiscofoundation.org/event/victory-soldiers-charity/
LOCATION:Los Angeles\, 15150 Dickens St Sherman Oaks\, CA 91403\, Los Angeles\, CA\, 10001\, United States
CATEGORIES:Charity,Children fund,Non Profit
ORGANIZER;CN="ChCharity":MAILTO:admin@gmail.com
END:VEVENT
BEGIN:VEVENT
DTSTART;TZID=UTC:20180101T080000
DTEND;TZID=UTC:20200229T170000
DTSTAMP:20260424T083605
CREATED:20171031T092146Z
LAST-MODIFIED:20171031T092146Z
UID:938-1514793600-1582995600@nadiscofoundation.org
SUMMARY:Weʼre raising $5\,000 to help  fund alternative
DESCRIPTION:Child sponsorship is a unique relationship\, that brings real hope and a life-affirming experience. Individually\, they raised their £400 via the event fundraising pages which George praises as an excellent aspect of the Yomp. The team then went on to approach clients\, family and friends. As they were a corporate team they were also lucky enough to have the firm’s social media as a platform to promote their efforts. Through sharing their training\, team news\, fun facts and fundraising page\, they were able to gain a strong online interest on Facebook and Twitter\, which helped raise their total. \nIt’s an event that will stay with us all for a very long time. The whole thing was incredibly special from the scenery and location to the wonderful event staff and brilliant organisation. At the heart of it though is the challenge and each and every one of us had to dig deep to complete it\, but that is what makes it so rewarding! \nThis report sets out a high-level view of progress since the strategy’s launch. Alongside ongoing dialogue with the UK and international research community\, we’ve sought input and challenge on our progress from supporters\, patients and those affected by cancer.
URL:https://nadiscofoundation.org/event/we%ca%bcre-raising-5000-to-help-fund-alternative/
LOCATION:New York\, 132-68 34th Ave Flushing\, NY 11354\, New York\, NY\, 10001\, United States
CATEGORIES:Charity,Children fund,Donation
END:VEVENT
END:VCALENDAR